BEGIN:VCALENDAR
VERSION:2.0
PRODID:-//hacksw/handcal//NONSGML v1.0//EN
CALSCALE:GREGORIAN
BEGIN:VEVENT
ORGANIZER;CN=Haemonetics Corporation:MAILTO:no-reply@mail.gcs-web.com
DTEND:
UID:4d0c0ccf-d91f-4658-8bac-e2bec9d70614
DTSTAMP:1777060134
LOCATION:https://edge.media-server.com/mmc/p/7d678otf
DESCRIPTION:Event Details https://haemonetics.gcs-web.com/events/event-details/q4-2026-haemonetics-corporation-earnings-conference-call\n\nWebcast: https://edge.media-server.com/mmc/p/7d678otf
URL;VALUE=URI:https://edge.media-server.com/mmc/p/7d678otf
SUMMARY:Haemonetics Corporation - Q4 2026 Haemonetics Corporation Earnings Conference Call
DTSTART:20260507T120000Z
END:VEVENT
END:VCALENDAR